BEGIN:VCALENDAR
VERSION:2.0
PRODID:-// - ECPv6.2.8.1//NONSGML v1.0//EN
CALSCALE:GREGORIAN
METHOD:PUBLISH
X-ORIGINAL-URL:https://drome-ardeche.1000pattes.guide
X-WR-CALDESC:évènements pour 
REFRESH-INTERVAL;VALUE=DURATION:PT1H
X-Robots-Tag:noindex
X-PUBLISHED-TTL:PT1H
BEGIN:VTIMEZONE
TZID:Europe/Paris
BEGIN:DAYLIGHT
TZOFFSETFROM:+0100
TZOFFSETTO:+0200
TZNAME:CEST
DTSTART:20250330T010000
END:DAYLIGHT
BEGIN:STANDARD
TZOFFSETFROM:+0200
TZOFFSETTO:+0100
TZNAME:CET
DTSTART:20251026T010000
END:STANDARD
END:VTIMEZONE
BEGIN:VEVENT
DTSTART;TZID=Europe/Paris:20250302T093000
DTEND;TZID=Europe/Paris:20250302T093000
DTSTAMP:20260423T140607
CREATED:20240209T092928Z
LAST-MODIFIED:20250205T154316Z
UID:10000013-1740907800-1740907800@drome-ardeche.1000pattes.guide
SUMMARY:Trail de la pierre sanglante - Grane (26)
DESCRIPTION:21 km (700 m D+) / 12 km (350 m D+). La course s’inscrit dans une démarche écologique avec le label TRF (Trail Runners Fondation)\, solidaire avec l’association Samdo Avenir (1 € reversé pour chaque inscription à l’association de solidarité avec le Népal). \n Inscriptions sur https://www.trailersgivresdeladrome.fr \, et sur place selon dossards disponibles. \nInfos : Olivier Bir – 06 41 12 93 57 – tgd.allex@gmail.com
URL:https://drome-ardeche.1000pattes.guide/event/trail-de-la-pierre-sanglante-grane-26/
CATEGORIES:Caritatif,Trail/course nature
END:VEVENT
BEGIN:VEVENT
DTSTART;TZID=Europe/Paris:20250302T093000
DTEND;TZID=Europe/Paris:20250302T093000
DTSTAMP:20260423T140607
CREATED:20240209T093301Z
LAST-MODIFIED:20250205T154412Z
UID:10000014-1740907800-1740907800@drome-ardeche.1000pattes.guide
SUMMARY:La Vivaroise by arob@se - Viviers (07)
DESCRIPTION:10 km (route ; 200 m D+) / courses enfants (800 m / 1200 m / 2000m). A la découverte du patrimoine architectural de la ville. Vestiaires gardés. \nInscription sur le-sportif.com et sur place. \nInfos : https://www.mairie-viviers.fr/ \nContact : mairie Viviers\, 04 75 49 86 10 / sport@mairie-viviers.fr
URL:https://drome-ardeche.1000pattes.guide/event/la-vivaroise-by-arobse-viviers-07/
LOCATION:La Vivaroise by arob@se\, Viviers\, France
CATEGORIES:Course pour enfants,Course sur route
END:VEVENT
BEGIN:VEVENT
DTSTART;TZID=Europe/Paris:20250302T093000
DTEND;TZID=Europe/Paris:20250302T093000
DTSTAMP:20260423T140607
CREATED:20240211T150458Z
LAST-MODIFIED:20250205T153003Z
UID:10000065-1740907800-1740907800@drome-ardeche.1000pattes.guide
SUMMARY:Aquathlon d'Annonay (07)
DESCRIPTION:Natation à la piscine Aquavaure d’Annonay. Course à pied dans le parc de Déomas situé à côté de la piscine. Courses jeunes et adultes. Format de courses S ouvert aux paratriathlètes. \n+ d’infos sur les types de course : https://www.fftri.com/pratiquer/disciplines \nhttps://www.njuko.net/aquathlon-annonay-2024-2/select_competition?fbclid=IwAR2yJ8DyJv2lc11FKwM-cNFVfWPcJhKhxQDOcrtkGdPpQ24fem6sgQZnDDk
URL:https://drome-ardeche.1000pattes.guide/event/aquathlon-dannonay-07/
LOCATION:Aquathlon d’Annonay\, Annonay\, France
CATEGORIES:Aquathlon
END:VEVENT
BEGIN:VEVENT
DTSTART;TZID=Europe/Paris:20250309T090000
DTEND;TZID=Europe/Paris:20250309T090000
DTSTAMP:20260423T140607
CREATED:20240209T093537Z
LAST-MODIFIED:20250205T154545Z
UID:10000015-1741510800-1741510800@drome-ardeche.1000pattes.guide
SUMMARY:Trail de la pierre plantée - Veyras (07)
DESCRIPTION:25 km (1000 m D+) / 13 km (350 m D+) / 8 km (100 D+) + course enfants (à partir de 800 m). \nInscriptions par www.larondedesbois.fr\, sur place la veille selon dossards disponibles. \nContacts : Pastion Alain – 04 75 64 48 75 – 06 74 27 23 25 – alain.pastion@gmail.com  ; Gounon Thierry – t.gounon@orange.fr
URL:https://drome-ardeche.1000pattes.guide/event/trail-de-la-pierre-plantee-veyras-07/
LOCATION:Trail de la pierre plantée\, Veyras\, France
CATEGORIES:Trail/course nature
END:VEVENT
BEGIN:VEVENT
DTSTART;TZID=Europe/Paris:20250309T090000
DTEND;TZID=Europe/Paris:20250309T090000
DTSTAMP:20260423T140607
CREATED:20240209T093823Z
LAST-MODIFIED:20250205T154614Z
UID:10000016-1741510800-1741510800@drome-ardeche.1000pattes.guide
SUMMARY:Trail de Saint Pancrace - Suze (26)
DESCRIPTION:18 km (650 D+) / 12 km (500 D+) / 6 km (250 D+). \nInscriptions par www.crossdesaintpancrace.com et sur place selon dossards disponibles. \nContact : Baptistin Monot – 07 83 66 62 69 – baptistin.monot@gmail.com
URL:https://drome-ardeche.1000pattes.guide/event/trail-de-saint-pancrace-suze-26/
LOCATION:Trail de Saint Pancrace\, Suze\, France
CATEGORIES:Trail/course nature
END:VEVENT
BEGIN:VEVENT
DTSTART;TZID=Europe/Paris:20250309T093000
DTEND;TZID=Europe/Paris:20250309T093000
DTSTAMP:20260423T140607
CREATED:20240224T154012Z
LAST-MODIFIED:20250205T154457Z
UID:10000094-1741512600-1741512600@drome-ardeche.1000pattes.guide
SUMMARY:La Chabeuilloise - Chabeuil (26)
DESCRIPTION:10 km (50 m D+)/ 5 km (25 m D+) / courses enfants à partir de poussins 400m / Une course du Challenge des 3 courses Tournon – Valence – Chabeuil.\nDouches\, vestiaires\, sacs gardés. \nInscriptions sur le-sportif.com\, via http://earv.athle.com et sur place. \nContact : Laurent Longa – 06 85 42 24 39 – laurent.longa@gpf.fr
URL:https://drome-ardeche.1000pattes.guide/event/la-chabeuilloise-chabeuil-26/
LOCATION:La Chabeuilloise\, Chabeuil\, France
CATEGORIES:Course sur route
END:VEVENT
BEGIN:VEVENT
DTSTART;TZID=Europe/Paris:20250316T090000
DTEND;TZID=Europe/Paris:20250316T090000
DTSTAMP:20260423T140607
CREATED:20240209T094834Z
LAST-MODIFIED:20250205T154715Z
UID:10000017-1742115600-1742115600@drome-ardeche.1000pattes.guide
SUMMARY:Courir sur le plateau - Clansayes (26)
DESCRIPTION:20 km (256 m D+) / 12\,5 km (80 m D+) / 7 km (65 m D+) / course enfant et marche. Cette 17e édition est placée sous le signe de la Saint-Patrick\, avec une course déguisée l’après-midi\, un concert de musique celtique et un stand bière. \nInscriptions sur nikrome.com \n+ d’infos : https://www.facebook.com/cdfclansayes/?locale=fr_FR \nContact : Marc Roche – 06 59 02 39 50 – mroche.cslp@gmail.com
URL:https://drome-ardeche.1000pattes.guide/event/courir-sur-le-plateau-clansayes-26/
LOCATION:Courir sur le plateau\, Clansayes\, France
CATEGORIES:Course pour enfants,Trail/course nature
END:VEVENT
BEGIN:VEVENT
DTSTART;TZID=Europe/Paris:20250316T090000
DTEND;TZID=Europe/Paris:20250316T090000
DTSTAMP:20260423T140607
CREATED:20250303T070343Z
LAST-MODIFIED:20250303T070709Z
UID:10000121-1742115600-1742115600@drome-ardeche.1000pattes.guide
SUMMARY:Trail Raye Saint-Vincinoise - St-Vincent-la-Commanderie (26)
DESCRIPTION:9h : 18 km (1100 m D+) \n9h30 : 8 km (350 m D+) en marche ou trail \n11h : course des enfants \nEvénement au profit des enfants du RPI Charpey – Saint-Vincent. \nInscriptions : https://www.sportsnconnect.com/calendrier-evenements/view/29090/raye-saint-vincinoise \n+ d’infos : https://www.facebook.com/RayeSaintVincinoise \nContact : trailrayesaintvincinoise@outlook.fr\, 06 52 81 62 66\, 06 77 95 52 31 \n 
URL:https://drome-ardeche.1000pattes.guide/event/trail-raye-saint-vincinoise-st-vincent-la-commanderie-26/
LOCATION:Trail Raye Saint-Vincinoise\, Saint-Vincent-la-Commanderie\, France
CATEGORIES:Course pour enfants,Marche,Trail/course nature
END:VEVENT
BEGIN:VEVENT
DTSTART;TZID=Europe/Paris:20250322T130000
DTEND;TZID=Europe/Paris:20250322T130000
DTSTAMP:20260423T140607
CREATED:20240209T103428Z
LAST-MODIFIED:20250205T154747Z
UID:10000021-1742648400-1742648400@drome-ardeche.1000pattes.guide
SUMMARY:Trail Suc des Vents -  Saint-Alban-d’Ay (07)
DESCRIPTION:54 km (2250 m D+) / 36 km (1800 m D+) / 23 km (1000 m D+) / 12 km (300 m D+) + 3 courses enfants. Parcours remodelés qui passeront devant les quatre châteaux de la commune. \n Inscription : www.traildesucdesvents.com \nContact : Christophe Faya – 06 07 11 16 59 – cfaya@orange.fr – Séverin Poinas – 06 81 67 37 25 – severin.poinas@wanadoo.fr
URL:https://drome-ardeche.1000pattes.guide/event/trail-suc-des-vents-saint-alban-day-07/
LOCATION:Trail Suc des Vents\, Saint-Alban-d’Ay\, France
CATEGORIES:Trail/course nature
END:VEVENT
BEGIN:VEVENT
DTSTART;TZID=Europe/Paris:20250323T084500
DTEND;TZID=Europe/Paris:20250323T084500
DTSTAMP:20260423T140607
CREATED:20240209T103740Z
LAST-MODIFIED:20250205T154835Z
UID:10000022-1742719500-1742719500@drome-ardeche.1000pattes.guide
SUMMARY:Les chemins de Chatu - Chatuzange-le-Goubet (26)
DESCRIPTION:25 km (250 m D+) / 8 km (100m D+) / courses enfants 750 m pour les 6-9 ans et 1500 m pour les 10-13 ans.\nLes bénéfices soutiennent l’association Coala\, pour le développement du sport adapté ; courses ouvertes aux coureurs à mobilité réduite. \nInscriptions uniquement sur www.alpizancon.fr\nContact : Martin Zanotti – 06 84 14 32 25 – communication@alpizancon.fr
URL:https://drome-ardeche.1000pattes.guide/event/les-chemins-de-chatu-chatuzange-le-goubet-26/
CATEGORIES:Course pour enfants,Trail/course nature
END:VEVENT
BEGIN:VEVENT
DTSTART;TZID=Europe/Paris:20250323T093000
DTEND;TZID=Europe/Paris:20250323T093000
DTSTAMP:20260423T140607
CREATED:20240211T151029Z
LAST-MODIFIED:20250205T153120Z
UID:10000066-1742722200-1742722200@drome-ardeche.1000pattes.guide
SUMMARY:Duathlon du Tricastin - Saint-Paul-trois-Châteaux (26)
DESCRIPTION:Duathlons XS\, S\, S relais \n+ d’infos sur les types de course : https://www.fftri.com/pratiquer/disciplines \nInfos sur https://tricastin-triathlon-club.e-monsite.com/ et via https://www.facebook.com/tricastintriathlonclub/?locale=fr_FR \nInscription : https://chronospheres.fr/evenements/recherche?seach=Tricastin%20&fbclid=IwAR3xLJTBDoz74n0g4R3UD7RgsTfgJ22YhS7-Gjei8URrknuPtpwhQk4dRyc \n 
URL:https://drome-ardeche.1000pattes.guide/event/duathlon-de-la-drome-provencale-saint-paul-trois-chateaux-26/
LOCATION:Duathlon de la Drôme Provençale –\, Saint-Paul-trois-Châteaux\, France
CATEGORIES:Duathlon
END:VEVENT
BEGIN:VEVENT
DTSTART;TZID=Europe/Paris:20250326T080000
DTEND;TZID=Europe/Paris:20250326T170000
DTSTAMP:20260423T140607
CREATED:20250326T150515Z
LAST-MODIFIED:20250326T150515Z
UID:10000123-1742976000-1743008400@drome-ardeche.1000pattes.guide
SUMMARY:Courir sur le 45e parallèle - Pont-de-l’Isère (26)
DESCRIPTION:10 km / 5 km / 1 et 2 km \nA partir de 7 € adulte \nInscriptions sur chronosphere \nInfos : Christel Castello / 06 43 79 48 37 / mairie-de-pont-de-lisere@mairiedepontdelisere.fr 
URL:https://drome-ardeche.1000pattes.guide/event/courir-sur-le-45e-parallele-pont-de-lisere-26/
CATEGORIES:Course sur route
END:VEVENT
BEGIN:VEVENT
DTSTART;TZID=Europe/Paris:20250329T160000
DTEND;TZID=Europe/Paris:20250329T160000
DTSTAMP:20260423T140607
CREATED:20240209T103014Z
LAST-MODIFIED:20250205T155130Z
UID:10000020-1743264000-1743264000@drome-ardeche.1000pattes.guide
SUMMARY:Trail de Mirmande (26)
DESCRIPTION:45 km (3090 m D+) / 27 km (1560 m D+) / 13 km (720 m D+) / 8 km (407 m D+) / 10 km rando. \nSamedi 29 : \n16 h : 13 km Montagne\n18 h 30 : 8 km La noctambule \nDimanche 30 : \n9 h : 43 km\n9 h 30 : 27 km \nChallenge de Mirmande : 14 km + 40 km. \nDéfi de la Mirmandaise : 27 km + 8 km. \nPasta le samedi soir\, repas offert à l’arrivée. Douches\, vestiaires\, sacs gardés. \nInscriptions sur www.trail-mirmande.com et sur place selon dossards disponibles. \nContact : Jack Peyrard – 06 66 88 02 82 – promo.sports26@yahoo.fr
URL:https://drome-ardeche.1000pattes.guide/event/trail-de-mirmande-26-2/
LOCATION:Trail de Mirmande\, Mirmande\, France
CATEGORIES:Trail/course nature
END:VEVENT
END:VCALENDAR