BEGIN:VCALENDAR
VERSION:2.0
PRODID:-// - ECPv6.2.8.1//NONSGML v1.0//EN
CALSCALE:GREGORIAN
METHOD:PUBLISH
X-ORIGINAL-URL:https://drome-ardeche.1000pattes.guide
X-WR-CALDESC:évènements pour 
REFRESH-INTERVAL;VALUE=DURATION:PT1H
X-Robots-Tag:noindex
X-PUBLISHED-TTL:PT1H
BEGIN:VTIMEZONE
TZID:Europe/Paris
BEGIN:DAYLIGHT
TZOFFSETFROM:+0100
TZOFFSETTO:+0200
TZNAME:CEST
DTSTART:20240331T010000
END:DAYLIGHT
BEGIN:STANDARD
TZOFFSETFROM:+0200
TZOFFSETTO:+0100
TZNAME:CET
DTSTART:20241027T010000
END:STANDARD
END:VTIMEZONE
BEGIN:VEVENT
DTSTART;TZID=Europe/Paris:20240704T193000
DTEND;TZID=Europe/Paris:20240704T193000
DTSTAMP:20260426T004119
CREATED:20240424T071306Z
LAST-MODIFIED:20240424T071306Z
UID:10000115-1720121400-1720121400@drome-ardeche.1000pattes.guide
SUMMARY:Triathlon des Gorges Ardèche et Gard - Saint-Martin-d'Ardèche (07)
DESCRIPTION:Les 4\, 5 et 6 juillet \nAu programme : \nJeunes \nXS : 400 m de natation\, 10\,5 km à vélo et 2 km à pied \nMs (entre M et S) : 1000 m + 35 km + 7 km \nL : 2000 m + 78 km + 18 km. Sur cette distance\, vous pouvez choisir la version : Triathlon (natation\, vélo\, course à pied)\, Duathlon (course à pied de 8km\, vélo\, course à pied) ou SwimBike (natation\, vélo et Arrivée à 800m à pied). \nRelais MS et L \nChallenge Ms + XS + L \nInfos et inscriptions : https://triathlondesgorges.com/
URL:https://drome-ardeche.1000pattes.guide/event/triathlon-des-gorges-ardeche-et-gard-saint-martin-dardeche-07/
LOCATION:Triathlon des Gorges Ardèche et Gard\, Saint-Martin-d'Ardèche\, France
CATEGORIES:Triathlon
END:VEVENT
BEGIN:VEVENT
DTSTART;TZID=Europe/Paris:20240721T093000
DTEND;TZID=Europe/Paris:20240721T093000
DTSTAMP:20260426T004119
CREATED:20240424T074224Z
LAST-MODIFIED:20240424T074712Z
UID:10000116-1721554200-1721554200@drome-ardeche.1000pattes.guide
SUMMARY:Triathlon des collines - Saint-Barthélémy-de-Vals (26)
DESCRIPTION:Rendez-vous au Lac des Vernets à St-Barthélémy-de-Vals. \n9 h 30 : Triathlon XS \n11 h 30 et 12 h : Jeunes \n13h30 : Triathlon S solo et relais \nInfos et inscriptions : https://chronospheres.fr/evenements/recherche?seach=triathlon+des+collines \n 
URL:https://drome-ardeche.1000pattes.guide/event/triathlon-des-collines-saint-barthelemy-de-vals-26/
LOCATION:Triathlon des collines\, Saint-Barthélémy-de-Vals\, France
CATEGORIES:Triathlon
END:VEVENT
END:VCALENDAR