BEGIN:VCALENDAR
VERSION:2.0
PRODID:-// - ECPv6.2.8.1//NONSGML v1.0//EN
CALSCALE:GREGORIAN
METHOD:PUBLISH
X-ORIGINAL-URL:https://drome-ardeche.1000pattes.guide
X-WR-CALDESC:évènements pour 
REFRESH-INTERVAL;VALUE=DURATION:PT1H
X-Robots-Tag:noindex
X-PUBLISHED-TTL:PT1H
BEGIN:VTIMEZONE
TZID:Europe/Paris
BEGIN:DAYLIGHT
TZOFFSETFROM:+0100
TZOFFSETTO:+0200
TZNAME:CEST
DTSTART:20250330T010000
END:DAYLIGHT
BEGIN:STANDARD
TZOFFSETFROM:+0200
TZOFFSETTO:+0100
TZNAME:CET
DTSTART:20251026T010000
END:STANDARD
END:VTIMEZONE
BEGIN:VEVENT
DTSTART;TZID=Europe/Paris:20250413T070000
DTEND;TZID=Europe/Paris:20250413T070000
DTSTAMP:20260425T125734
CREATED:20240209T140216Z
LAST-MODIFIED:20250205T155438Z
UID:10000025-1744527600-1744527600@drome-ardeche.1000pattes.guide
SUMMARY:Championnat de France de trail - Buis-les-Baronnies (26)
DESCRIPTION:10 km (550 m D+) / 21 km (1200 m D+) / 57 km (2900 m D+). Tous les concurrents démarrent ensemble\, avec un sas de départ pour la catégorie championnat de France. Vestiaires\, douches\, sacs gardés.  \nInscription uniquement sur www.traildrome.fr.  \nContact : Audineau Bernard – 06 83 04 24 20 – organisation@traildrome.fr
URL:https://drome-ardeche.1000pattes.guide/event/championnat-de-france-de-trail-buis-les-baronnies-26/
LOCATION:Championnat de France de trail\, Buis-les-Baronnies\, France
CATEGORIES:Trail/course nature
END:VEVENT
BEGIN:VEVENT
DTSTART;TZID=Europe/Paris:20250413T090000
DTEND;TZID=Europe/Paris:20250413T090000
DTSTAMP:20260425T125734
CREATED:20240209T143232Z
LAST-MODIFIED:20250205T155543Z
UID:10000029-1744534800-1744534800@drome-ardeche.1000pattes.guide
SUMMARY:Trail des allumés - Barry Saint-Restitut (26)
DESCRIPTION:15 km (450 m D+) solo / 8 km (250 m D+) en solo ou duo /\n5 km libre ou groupé avec des meneurs d’allure / courses enfants 1000 m à 3000 m / sur le 15 km\, challenge « Le fil de la Vie – Pour Romain Feuillade » en hommage à Romain victime de l’attentat du 13 novembre 2015. Son frère\, Vincent\, part en lièvre\, le premier coureur à le rattraper devient à son tour le lièvre\, et ainsi de suite).  \nInscription : www.les-allumes.com \nContact : Géraldine Roumeas – 06 08 52 32 19 – roumeasgeraldine@gmail.com \n 
URL:https://drome-ardeche.1000pattes.guide/event/trail-des-allumes-barry-saint-restitut-26/
LOCATION:Trail des allumés\, Barry Saint-Restitut\, France
CATEGORIES:Trail/course nature
END:VEVENT
BEGIN:VEVENT
DTSTART;TZID=Europe/Paris:20250420T080000
DTEND;TZID=Europe/Paris:20250420T170000
DTSTAMP:20260425T125734
CREATED:20240209T202015Z
LAST-MODIFIED:20250205T160033Z
UID:10000031-1745136000-1745168400@drome-ardeche.1000pattes.guide
SUMMARY:Trail de Juliau - Saint-Jean-le-Centenier (07)
DESCRIPTION:46 km (1900 m D+) / 21 km (900 m D+) / 11 km (450 m D+).  \nDouche\, vestiaire\, pas de garde de sac.  \nInscriptions sur https://sites.google.com/view/trail-de-juliau-sport-nature-/ et sur place selon dossards disponibles.  \nContact : Corentin Gaillard – 06 72 42 34 03 – traildejuliau@gmail.com \n 
URL:https://drome-ardeche.1000pattes.guide/event/trail-de-juliau-saint-jean-le-centenier-07/
LOCATION:Trail de Juliau\, Saint-Jean-le-Centenier\, France
CATEGORIES:Trail/course nature
END:VEVENT
BEGIN:VEVENT
DTSTART;TZID=Europe/Paris:20250427T080000
DTEND;TZID=Europe/Paris:20250427T080000
DTSTAMP:20260425T125734
CREATED:20240209T203833Z
LAST-MODIFIED:20250205T160158Z
UID:10000034-1745740800-1745740800@drome-ardeche.1000pattes.guide
SUMMARY:Trail de Dieulefit (26)
DESCRIPTION:42 km en solo (2130 m D+) / 42 km en relais (1630 m D + 1er coureur/ 500 m D+ 2ème coureur) / 27 km (1480 m D+) / 17 km (760 m D+).  \nDouches\, pas de vestiaire gardé\, ostéopathe.  \nInscriptions uniquement sur trailpaysdedieulefitdrome.jimdofree.com \nContact : Chantal Ernouf – 06 70 51 84 36\, Noël Ernouf – 06 20 62 22 87 – passion.trail.dieulefit@gmail.com
URL:https://drome-ardeche.1000pattes.guide/event/trail-de-dieulefit-26/
LOCATION:Trail de dieulefit\, Dieulefit\, France
CATEGORIES:Trail/course nature
END:VEVENT
BEGIN:VEVENT
DTSTART;TZID=Europe/Paris:20250502T190000
DTEND;TZID=Europe/Paris:20250502T190000
DTSTAMP:20260425T125734
CREATED:20240209T203521Z
LAST-MODIFIED:20250326T143829Z
UID:10000033-1746212400-1746212400@drome-ardeche.1000pattes.guide
SUMMARY:Ardèche trail la voie romaine - Desaignes (07)
DESCRIPTION:De vendredi à dimanche : 57 km (2420 m D+ 3 points ITRA) / 37 km (1600 m D+ 2 points ITRA / 20 km (900 m D+) / 12 km (420 m D+ en semi-nocturne) / 8 km (250 m D+) / courses enfants 500 m à 1500 m / randonnées 8 km – 12 km – 20 km. \nProgramme : https://ardeche-trail-la-voie-romaine.com/programme/ \nInscription : www.ardeche-trail-la-voie-romaine.com \nContact : Jonathan Rouquairol\, jrouquairol@gmail.com
URL:https://drome-ardeche.1000pattes.guide/event/ardeche-trail-la-voie-romaine-desaignes-07/
CATEGORIES:Trail/course nature
END:VEVENT
BEGIN:VEVENT
DTSTART;TZID=Europe/Paris:20250504T093000
DTEND;TZID=Europe/Paris:20250504T093000
DTSTAMP:20260425T125734
CREATED:20240209T210907Z
LAST-MODIFIED:20250326T143855Z
UID:10000037-1746351000-1746351000@drome-ardeche.1000pattes.guide
SUMMARY:Trail du sou - Tournon-sur-Rhône (07)
DESCRIPTION:17 km (800 m D+) / 11 km (370 m D) / courses enfants 920 m à 3680 m.  \nhttps://www.facebook.com/people/Trail-du-Sou-de-Tournon/100089488186097/ \nInscriptions : www.trail-du-sou-de-tournon.jourdetrail.fr \nContact : Johann Chalamet – soudesecoles.tournon@gmail.com
URL:https://drome-ardeche.1000pattes.guide/event/trail-du-sou-tournon-sur-rhone-07/
LOCATION:Trail du sou\, Tournon-sur-Rhône\, France
CATEGORIES:Trail/course nature
END:VEVENT
BEGIN:VEVENT
DTSTART;TZID=Europe/Paris:20250508T190000
DTEND;TZID=Europe/Paris:20250508T190000
DTSTAMP:20260425T125734
CREATED:20240209T213800Z
LAST-MODIFIED:20250326T144220Z
UID:10000041-1746730800-1746730800@drome-ardeche.1000pattes.guide
SUMMARY:Challenge Vallée de la Drôme - Crest (26)
DESCRIPTION:1 km (122 m D+ pour rallier le sommet du plus haut donjon d’Europe et descendre – pour ceux qui le souhaitent ! – en rappel. Départs par vagues) / 80 km (6000 m D+) / 130 km / 50 km (2800 m D+) / 39 km (2700 m D+) / 38 km (1400 m D+) / 21\, 2 km (610 m D+) /12 km (220 m D+) / 7 km (150 m D+) / 10 km rando / courses enfants. \nCourses du 10 au 12 mai : https://challengedrome.com/programme/ \nDouches\, vestiaires\, sacs gardés\, ostéos\, kinés\, podologues.  \nInscription sur www.challengedrome.com \nContact : Jack Peyrard – 06 66 88 02 82 – promo.sports26@yahoo.fr
URL:https://drome-ardeche.1000pattes.guide/event/challenge-vallee-de-la-drome-crest-26/
LOCATION:Challenge Vallée de la Drôme\, Crest\, France
CATEGORIES:Course pour enfants,Marche,Trail/course nature
END:VEVENT
BEGIN:VEVENT
DTSTART;TZID=Europe/Paris:20250517T153000
DTEND;TZID=Europe/Paris:20250517T153000
DTSTAMP:20260425T125734
CREATED:20250326T150046Z
LAST-MODIFIED:20250326T150046Z
UID:10000122-1747495800-1747495800@drome-ardeche.1000pattes.guide
SUMMARY:Trail des monts d’Ardèche - Saint-Agrève (07)
DESCRIPTION:35 km / 19 km / 12 km / 7 km + montée sèche 3 km avec 600 m D+ le samedi \nInscriptions : www.trailmontsardeche.wordpress.com \nInfos : Vermorel Bertrand / 06 17 23 43 82 / trailmontsardeche@gmail.com / Mandon Florian / 06 07 45 12 27 / trailmontsardeche@gmail.com /
URL:https://drome-ardeche.1000pattes.guide/event/trail-des-monts-dardeche-saint-agreve-07-2/
LOCATION:Trail des monts d’Ardèche\, Saint-Agrève\, France
CATEGORIES:Trail/course nature
END:VEVENT
BEGIN:VEVENT
DTSTART;TZID=Europe/Paris:20250518T153000
DTEND;TZID=Europe/Paris:20250518T153000
DTSTAMP:20260425T125734
CREATED:20240210T062930Z
LAST-MODIFIED:20250326T145612Z
UID:10000045-1747582200-1747582200@drome-ardeche.1000pattes.guide
SUMMARY:Duo de l’Hermitage - Tain-l’Hermitage (26)
DESCRIPTION:Samedi 17 mai :  \n15 h 30 : 10 km (350 m D+) \n18 h : 15 km (500 m D+) \n  \nDimanche 18 mai : \n8 h : Duo ou solo 42 km (1 600 m D+) \n9 h 30 :  Duo 25 km (900 m D+) ; Duo 14 km (350 m D+) \n  \nChallenge sur les deux jours 15 km + 25 km et 10 km + 14 km.\nIci on part à 2 et on finit à 2. L’organisation garantit une place (dans la limite de 20 dossards maximum) à tous les coureurs\nqui feront un don (120 euros / 170 euros ou 240 euros suivant la course choisie) à l’une des associations suivantes RECIPPO Mission Madagascar ou Association pour la Recherche sur les Tumeurs Cérébrales.  \nInscriptions uniquement sur www.duo-hermitage.com avec tarifs spécifiques pour les 300 premiers inscrits.  \nContact : duohermitage@gmail.com \n 
URL:https://drome-ardeche.1000pattes.guide/event/duo-de-lhermitage-tain-lhermitage-26-2/
LOCATION:Duo de l’Hermitage\, Tain-L'Hermitage\, France
CATEGORIES:Caritatif,Trail/course nature
END:VEVENT
BEGIN:VEVENT
DTSTART;TZID=Europe/Paris:20250531T040000
DTEND;TZID=Europe/Paris:20250531T040000
DTSTAMP:20260425T125734
CREATED:20240210T081845Z
LAST-MODIFIED:20250326T150721Z
UID:10000063-1748664000-1748664000@drome-ardeche.1000pattes.guide
SUMMARY:Trail des Gorges de l’Ardèche - Saint-Martin-d’Ardèche (07)
DESCRIPTION:4 h : 73 km (2700 m D+)  \n6h45 : 42 km (1600 m D+)  \n7 h 30 : 26 km 950 m D+)  \n8 h 15 : 11 km (350 m D+). \nDouches\, pas de vestiaire\, école d’ostéopathie.  \nInscription sur www.trail-gorges-ardeche.fr et sur place selon dossards dispos. \nContact : Brousse Vincent\, 06 86 14 26 97 – Rodrigues Pedro\, 06 86 93 68 01
URL:https://drome-ardeche.1000pattes.guide/event/trail-des-gorges-de-lardeche-saint-martin-dardeche-07/
LOCATION:Trail des Gorges de l’Ardèche\, Saint-Martin-D’Ardèche\, France
CATEGORIES:Trail/course nature
END:VEVENT
BEGIN:VEVENT
DTSTART;TZID=Europe/Paris:20250607T063000
DTEND;TZID=Europe/Paris:20250607T063000
DTSTAMP:20260425T125734
CREATED:20240210T081127Z
LAST-MODIFIED:20250326T151631Z
UID:10000061-1749277800-1749277800@drome-ardeche.1000pattes.guide
SUMMARY:Le trail de la chaussée des géants - Thueyts (07)
DESCRIPTION:51 km (3000 m D+) / 20 km (1000 m D+) / 10 km (500 m D+) + rando 10 à 20 km.  \nDouches\, vestiaires\, kinés\, ostéopathes\, podologues.  \nInscriptions uniquement sur www.lachausseedesgeants.com \nContact : Jean-Luc Testud\, 06 72 08 20 36  \n 
URL:https://drome-ardeche.1000pattes.guide/event/la-chaussee-des-geants-thueyts-07/
LOCATION:La chaussée des géants\, Thueyts\, France
CATEGORIES:Marche,Trail/course nature
ATTACH;FMTTYPE=image/jpeg:https://drome-ardeche.1000pattes.guide/wp-content/uploads/sites/6/2024/02/396070763_709212931261269_7036431072818287812_n.jpg
END:VEVENT
BEGIN:VEVENT
DTSTART;TZID=Europe/Paris:20250608T080000
DTEND;TZID=Europe/Paris:20250608T080000
DTSTAMP:20260425T125734
CREATED:20240210T074316Z
LAST-MODIFIED:20250326T151751Z
UID:10000056-1749369600-1749369600@drome-ardeche.1000pattes.guide
SUMMARY:Trail des balcons de la Drôme - Piégros-la-Clastre (26)
DESCRIPTION:26 km (1500 m D+) / 13\,5 km (700 m D+) / 7 km (200 m D+\, accessible à partir de Cadet).  \nDouches\, vestiaires\, sacs gardés. \n Inscription sur le-sportif.com et sur site de la course : www.lesbalconsdeladrome.fr \nContact : Philippe Soual – 06 22 84 60 73
URL:https://drome-ardeche.1000pattes.guide/event/trail-des-balcons-de-la-drome-piegros-la-clastre-26/
LOCATION:Trail des balcons de la Drôme\, Piégros-la-Clastre\, France
CATEGORIES:Trail/course nature
END:VEVENT
BEGIN:VEVENT
DTSTART;TZID=Europe/Paris:20250615T080000
DTEND;TZID=Europe/Paris:20250615T080000
DTSTAMP:20260425T125734
CREATED:20240210T075824Z
LAST-MODIFIED:20250326T151817Z
UID:10000058-1749974400-1749974400@drome-ardeche.1000pattes.guide
SUMMARY:Trail des contreforts - Rochefort-Samson (26)
DESCRIPTION:(horaire à préciser) \n22 km (800 m D+) / 10 km (350 m D+) / animations enfants.  \nVestiaires\, sanitaires. \n Inscriptions sur le-sportif.com et sur place selon dossards disponibles. \nContact : Clauzel Philippe\, 06 78 09 28 24\, p.clauzel@orange.fr ; Briguet André\, 06 79 21 98 87\, andre.briguet@hotmail.com \n 
URL:https://drome-ardeche.1000pattes.guide/event/trail-des-contreforts-rochefort-samson-26/
LOCATION:Trail des contreforts\, Rochefort-Samson\, France
CATEGORIES:Course pour enfants,Trail/course nature
END:VEVENT
BEGIN:VEVENT
DTSTART;TZID=Europe/Paris:20250615T093000
DTEND;TZID=Europe/Paris:20250615T093000
DTSTAMP:20260425T125734
CREATED:20240210T073133Z
LAST-MODIFIED:20250326T152015Z
UID:10000053-1749979800-1749979800@drome-ardeche.1000pattes.guide
SUMMARY:La Véronique - Saint-Restitut (26)
DESCRIPTION:9 h : courses enfants 1km – 2 km. \n9 h 30 : 11\,5 km (280 m D+) \n9 h 35 : marche de 11\,5 km (280 m D+) \nSanitaires.  \n1 € par dossard reversé à une association locale de protection des animaux. \nInfos : https://www.facebook.com/courselaveronique/?locale=fr_FR \nInscription sur https://frsaintrestitut.foyersruraux.org/ et sur place.  \nContact : Fijalek Veronique – 04 75 96 78 25 ou 06 85 77 32 89
URL:https://drome-ardeche.1000pattes.guide/event/la-veronique-saint-restitut-26/
LOCATION:La Véronique\, Saint-Restitut\, France
CATEGORIES:Caritatif,Trail/course nature
END:VEVENT
BEGIN:VEVENT
DTSTART;TZID=Europe/Paris:20250621T070000
DTEND;TZID=Europe/Paris:20250621T070000
DTSTAMP:20260425T125734
CREATED:20240210T073502Z
LAST-MODIFIED:20250326T152125Z
UID:10000054-1750489200-1750489200@drome-ardeche.1000pattes.guide
SUMMARY:Les Drayes du Vercors -  La Chapelle en Vercors (26)
DESCRIPTION:50 km (2400 m D+) / 27 km (1360 m D+) / 20 km (940 m D+) / 11 km (400 m D+) + course enfant  \nBière offerte à tous les coureurs des parcours longs. Douches\, vestiaires\, pas de garde de sac. Ostéopathes.  \n1 € par dossard reversé à l’association Les bobos d’Hugo. \nInscriptions sur www.lesdrayesduvercors.com uniquement jusqu’à J-3. \n Contact : Allier Bernard – 06 19 94 56 88
URL:https://drome-ardeche.1000pattes.guide/event/les-drayes-du-vercors-la-chapelle-en-vercors-26/
LOCATION:Les Drayes du Vercors\, La Chapelle en Vercors\, France
CATEGORIES:Caritatif,Course pour enfants,Trail/course nature
END:VEVENT
BEGIN:VEVENT
DTSTART;TZID=Europe/Paris:20250621T070000
DTEND;TZID=Europe/Paris:20250621T070000
DTSTAMP:20260425T125734
CREATED:20240210T073839Z
LAST-MODIFIED:20250326T152102Z
UID:10000055-1750489200-1750489200@drome-ardeche.1000pattes.guide
SUMMARY:Trail Beaume - Drobie Valgorge (07)
DESCRIPTION:51 km (2490 m D+) ; 3 points ITRA/ 32 km (1410 m D+) ; 2 points ITRA / 20 km (900 m D+ \, course ou randonnée) ; 1 point ITRA/ 11 km (420 m D+\, course ou randonnée ) / le samedi 5\,6 km – kilomètre vertical 930 m D+. \nHoraires des courses : https://patricerotteleur.wixsite.com/trail-beaume-drobie/rglement \n Inscription sur https://patricerotteleur.wixsite.com/trail-beaume-drobie\, par courrier\, sur place selon dossards disponibles.  \nContact : Rotteleur Patrice – 06 74 84 25 75
URL:https://drome-ardeche.1000pattes.guide/event/trail-beaume-drobie-valgorge-07/
LOCATION:Trail Beaume\, Drobie Valgorge\, France
CATEGORIES:Marche,Trail/course nature
END:VEVENT
BEGIN:VEVENT
DTSTART;TZID=Europe/Paris:20250621T183000
DTEND;TZID=Europe/Paris:20250621T183000
DTSTAMP:20260425T125734
CREATED:20240210T072035Z
LAST-MODIFIED:20250326T152227Z
UID:10000051-1750530600-1750530600@drome-ardeche.1000pattes.guide
SUMMARY:Trail de la tour - Anneyron (26)
DESCRIPTION:18 h 30 : 17 km (600 m D+) / 9 km (240 m D+).  \nInscription : https://traildelatour.fr/ \n Contact : footing.rambertois26@gmail.com\, 06 84 63 09 80. \n 
URL:https://drome-ardeche.1000pattes.guide/event/trail-de-la-tour-anneyron-26/
LOCATION:Trail de la tour\, Anneyron\, France
CATEGORIES:Trail/course nature
END:VEVENT
BEGIN:VEVENT
DTSTART;TZID=Europe/Paris:20250622T080000
DTEND;TZID=Europe/Paris:20250622T080000
DTSTAMP:20260425T125734
CREATED:20240210T070245Z
LAST-MODIFIED:20250326T152601Z
UID:10000049-1750579200-1750579200@drome-ardeche.1000pattes.guide
SUMMARY:Trail des nounours - Montjoyer (26)
DESCRIPTION:(horaires à préciser) \n26 km (650 m D+) / 15 km (400 m D+) / 8 km (200 m D+) / marche de 8 km. \n Totalité des inscriptions reversée à l’association Enfants Cancers Santé. Sacs gardés. \n Inscription sur https://asmontjoyerreauvil.wixsite.com/trail et sur place selon dossards encore disponibles.  \nContact : Anthouard Eloïse – 06 12 18 49 82 – Chapon Mathis – 07 86 37 16 82
URL:https://drome-ardeche.1000pattes.guide/event/trail-des-nounours-montjoyer-26/
LOCATION:Trail des nounours\, Montjoyer\, France
CATEGORIES:Caritatif,Trail/course nature
END:VEVENT
BEGIN:VEVENT
DTSTART;TZID=Europe/Paris:20250628T053000
DTEND;TZID=Europe/Paris:20250628T053000
DTSTAMP:20260425T125734
CREATED:20240210T065801Z
LAST-MODIFIED:20250326T152911Z
UID:10000048-1751088600-1751088600@drome-ardeche.1000pattes.guide
SUMMARY:Glandass’trail - Châtillon-en-Diois (26)
DESCRIPTION:Samedi 28 juin : \n\n5 h 30 : La Pano-Vervors : 75 km\, 4600 m D+\n\nDimanche 29 juin : \n\n9 h : 39 km  (2600 m D+) et  19 km (1200 m D+) / : Partez sur les traces du championnat du Monde de course de Montagne de 1989 ; 11 km (course ou rando)\n\nchallenge 75 km + 39 km.  \nDouches\, vestiaires\, sacs gardés. \n Inscription sur www.glandasstrail.com et sur place selon dossards disponibles.  \nContact : Peyrard Jack – 06 66 88 02 82\, promo.sports26@yahoo.fr
URL:https://drome-ardeche.1000pattes.guide/event/glandasstrail-chatillon-en-diois-26-2/
LOCATION:Glandass’trail\, Chatillon-en-Diois\, France
CATEGORIES:Trail/course nature
END:VEVENT
BEGIN:VEVENT
DTSTART;TZID=Europe/Paris:20250803T090000
DTEND;TZID=Europe/Paris:20250803T090000
DTSTAMP:20260425T125734
CREATED:20240223T221536Z
LAST-MODIFIED:20250403T111408Z
UID:10000077-1754211600-1754211600@drome-ardeche.1000pattes.guide
SUMMARY:Ronde chabrillannaise  Souvenir Alain Charrier - Chabrillan (26)
DESCRIPTION:9h : 8 km (150 m D+) et 13 km (270 m D+)\, puis course enfant 2700 m / course initiation enfants. \nInscription possible jusqu’au dernier moment.\nContact : Rachel Noyer – 06 86 96 50 99 – rachel.brunet@laposte.net
URL:https://drome-ardeche.1000pattes.guide/event/ronde-chabrillannaise-souvenir-alain-charrier-chabrillan-26/
LOCATION:Ronde chabrillannaise  Souvenir Alain Charrier\, Chabrillan\, France
CATEGORIES:Course pour enfants,Trail/course nature
END:VEVENT
BEGIN:VEVENT
DTSTART;TZID=Europe/Paris:20250815T090000
DTEND;TZID=Europe/Paris:20250815T090000
DTSTAMP:20260425T125734
CREATED:20240223T222026Z
LAST-MODIFIED:20250403T111450Z
UID:10000078-1755248400-1755248400@drome-ardeche.1000pattes.guide
SUMMARY:Cross du 15 août - Oriol-en-Royans (26)
DESCRIPTION:9h : 10 km (350 m D+) / courses enfants (800 m à 1200 m). \nVestiaires. \nInscription sur Internet (le-sportif.com\, à confirmer) et sur place selon dossards disponibles. \n Contact : Sandrine Bretiere – 04 75 47 51 84 – famillebret.26@orange.fr – Michael Gauthier – 06 16 66 12 00 – mickgauthier@gmail.com
URL:https://drome-ardeche.1000pattes.guide/event/cross-du-15-aout-oriol-en-royans-26/
LOCATION:Cross du 15 août\, Oriol-en-Royans\, France
CATEGORIES:Course pour enfants,Trail/course nature
END:VEVENT
BEGIN:VEVENT
DTSTART;TZID=Europe/Paris:20250907T090000
DTEND;TZID=Europe/Paris:20250907T090000
DTSTAMP:20260425T125734
CREATED:20240223T222438Z
LAST-MODIFIED:20250403T111610Z
UID:10000079-1757235600-1757235600@drome-ardeche.1000pattes.guide
SUMMARY:Les rondes charolaises - Charols (26)
DESCRIPTION:20 km (700 m D+) / 10 km (150 m D+) / challenge entreprises (solo – le plus grand nombre d’inscrits de la même entreprise) / course enfants 1 km. \nDouches\, vestiaires. \n 1 € par dossard reversé à la lutte contre le cancer \nBuffet local. \n Inscription sur www.charolssportsloisirs.fr et sur place selon dossards disponibles. \nContact : Sylvain Deslandes – 06 07 08 68 21\, daen59@yahoo.fr
URL:https://drome-ardeche.1000pattes.guide/event/les-rondes-charolaises-charols-26/
LOCATION:Les rondes charolaises\, Charols\, France
CATEGORIES:Caritatif,Course pour enfants,Trail/course nature
END:VEVENT
BEGIN:VEVENT
DTSTART;TZID=Europe/Paris:20250914T073000
DTEND;TZID=Europe/Paris:20250914T073000
DTSTAMP:20260425T125734
CREATED:20240223T220133Z
LAST-MODIFIED:20250403T111851Z
UID:10000075-1757835000-1757835000@drome-ardeche.1000pattes.guide
SUMMARY:Trail des dolmens - Joyeuse (07)
DESCRIPTION:7 h 30 : 24 km\, 500 m D+ \n8 h : 15 km\, 440 m D+ \n8 h 30 : 7 km\, 200 m D+ \nInscription : www.traildesdolmens-ardeche.com\nContact : Violet Jean-Pierre – 06 76 69 31 59 – traildesdolmens-ardeche@orange.fr
URL:https://drome-ardeche.1000pattes.guide/event/trail-des-dolmens-joyeuse-07/
LOCATION:Trail des dolmens\, Joyeuse\, France
CATEGORIES:Trail/course nature
END:VEVENT
BEGIN:VEVENT
DTSTART;TZID=Europe/Paris:20250914T090000
DTEND;TZID=Europe/Paris:20250914T090000
DTSTAMP:20260425T125734
CREATED:20240223T223610Z
LAST-MODIFIED:20250403T111810Z
UID:10000081-1757840400-1757840400@drome-ardeche.1000pattes.guide
SUMMARY:Upienne l’estivale - Upie (26)
DESCRIPTION:24 km / 15 km (450 m D+) course ou rando / 7 km course ou rando / \nchallenge 25 km VTT samedi + 24 km trail dimanche. \nProgramme : http://foulees-upiennes.com/infos-pratiques \nInscription sur www.foulees-upiennes.com et sur place selon dossards disponibles.\nContact : Peyrard Jack – 06 66 88 02 82 – promo.sports26@yahoo.fr
URL:https://drome-ardeche.1000pattes.guide/event/upienne-lestivale-upie-26/
LOCATION:Upienne l’estivale\, Upie\, France
CATEGORIES:Marche,Trail/course nature
END:VEVENT
BEGIN:VEVENT
DTSTART;TZID=Europe/Paris:20250921T190000
DTEND;TZID=Europe/Paris:20250921T190000
DTSTAMP:20260425T125734
CREATED:20240223T222922Z
LAST-MODIFIED:20250403T111923Z
UID:10000080-1758481200-1758481200@drome-ardeche.1000pattes.guide
SUMMARY:La Ronde de Crussol - Saint-Péray (07)
DESCRIPTION:30 km (1220 m D+) / 15 km (470 m D+) / 12 km (plat) / 10 km (390 m D+) + courses enfants à partir de 500 m. \nSamedi : \n\n1 Km – LES CHEVALIERS (15h30 )\n12.40 Km – L’ILLUMINEE (390 m D+ | à 19h) – Solo ou Duo\n\nDimanche : \n\n\n\n\n\n\n\n9.9 Km – LE MIALAN ( 40 m D+ à 9h30.)\n15.2 Km – LA RONDE (470 m D+ à 9h30) solo ou duo\n31 Km – LA PICANTE (1310 m D+ à 8h30) solo ou duo\n\n\n\n\n\n\n\n\n\n\n\n\nSacs gardés\, ostéopathes. \nInscription sur www.macadam07.fr et sur place selon places disponibles. 1 € reversé par dossard à une cause caritative médicale pour les enfants.\nContact : Lilian Valette – 06 24 86 96 74 – lilian.valette07@gmail.com ; Thierry Roche – thieryroche07@gmail.com
URL:https://drome-ardeche.1000pattes.guide/event/la-ronde-de-crussol-saint-peray-07/
LOCATION:La Ronde de Crussol\, Saint-Péray\, France
CATEGORIES:Course pour enfants,Course sur route,Trail/course nature
END:VEVENT
BEGIN:VEVENT
DTSTART;TZID=Europe/Paris:20250927T180000
DTEND;TZID=Europe/Paris:20250927T180000
DTSTAMP:20260425T125734
CREATED:20250403T112134Z
LAST-MODIFIED:20250403T112241Z
UID:10000128-1758996000-1758996000@drome-ardeche.1000pattes.guide
SUMMARY:Lamas'trail - Lamastre (07)
DESCRIPTION:(horaires à préciser) \n Initiation trail 7km : 290m D+/-\n Le panoramique 14km : 640m D+/-\n Lamas’trail 21km : 920m D+/-\n Randonnées 7km ou 14km\nInscriptions via https://www.facebook.com/Lamastrail/\nInfos : Sébastien Brunel\, 07 81 86 65 98
URL:https://drome-ardeche.1000pattes.guide/event/lamastrail-lamastre-07/
LOCATION:Lamas’trail\, Lamastre\, France
CATEGORIES:Trail/course nature
END:VEVENT
BEGIN:VEVENT
DTSTART;TZID=Europe/Paris:20250928T080000
DTEND;TZID=Europe/Paris:20250928T080000
DTSTAMP:20260425T125734
CREATED:20240224T073631Z
LAST-MODIFIED:20250403T112621Z
UID:10000084-1759046400-1759046400@drome-ardeche.1000pattes.guide
SUMMARY:Trail du pré de cinq sous et de la Sophie - Hostun (26)
DESCRIPTION:30 km (1800 m D+) en solo ou relais à 2\, et un 12 km 650 D+ en solo ou en duo.\nDébut des courses à 8h. \nAnimations enfants. Douches. \nInscriptions uniquement sur https://trailhostun.fr/ \nContact : Pierre Yves Croyal\, 06 10 45 05 96\, houstontrail26730@gmail.com
URL:https://drome-ardeche.1000pattes.guide/event/trail-dhostun-26/
LOCATION:Trail d’Hostun\, Hostun\, France
CATEGORIES:Trail/course nature
END:VEVENT
BEGIN:VEVENT
DTSTART;TZID=Europe/Paris:20250928T094000
DTEND;TZID=Europe/Paris:20250928T094000
DTSTAMP:20260425T125734
CREATED:20240224T073045Z
LAST-MODIFIED:20250403T112356Z
UID:10000083-1759052400-1759052400@drome-ardeche.1000pattes.guide
SUMMARY:La foulée de la truffe - Montségur-sur-Lauzon (26)
DESCRIPTION:9h40 : 18\,8 km (450 m D+) \n9h45 : 8\,8 km (45 m D+). \nDouches\, vestiaires\, sacs gardés. \nInscription sur www.lafouleedelatruffe.fr et sur place \nContact : André Charpentier\, 04 75 98 18 54 et 06 99 97 09 56
URL:https://drome-ardeche.1000pattes.guide/event/la-foulee-de-la-truffe-montsegur-sur-lauzon-26/
LOCATION:La foulée de la truffe\, Montségur-sur-Lauzon\, France
CATEGORIES:Course sur route,Trail/course nature
END:VEVENT
BEGIN:VEVENT
DTSTART;TZID=Europe/Paris:20251012T080000
DTEND;TZID=Europe/Paris:20251012T150000
DTSTAMP:20260425T125734
CREATED:20240224T150825Z
LAST-MODIFIED:20250403T112943Z
UID:10000086-1760256000-1760281200@drome-ardeche.1000pattes.guide
SUMMARY:Trail de Nyons et Baronnies - Nyons (26)
DESCRIPTION:(horaires à préciser) \nSamedi : 3\,2 km Vertical (750 m D+) et 10 km marche nordique / 7 km (700 m D+) / course enfants \nDimanche : 36 km  / 22 km / 9 km  / challenge club le plus nombreux. \nProgramme : https://www.facebook.com/trailnyonsetbaronnies \nDouches\, vestiaires\, kinés. \nInscription sur https://www.couriranyons.fr/ et sur place uniquement le samedi. \nContact : couriranyons@gmail.com – Dominique Bontoux – 06 87 68 38 51.
URL:https://drome-ardeche.1000pattes.guide/event/trail-de-nyons-et-baronnies-nyons-26/
LOCATION:Trail de Nyons et Baronnies\, Nyons\, France
CATEGORIES:Marche,Trail/course nature
END:VEVENT
BEGIN:VEVENT
DTSTART;TZID=Europe/Paris:20251012T090000
DTEND;TZID=Europe/Paris:20251012T090000
DTSTAMP:20260425T125734
CREATED:20240224T151328Z
LAST-MODIFIED:20250403T113013Z
UID:10000088-1760259600-1760259600@drome-ardeche.1000pattes.guide
SUMMARY:All’en trail - Allan (26)
DESCRIPTION:9 h : 25 km (720 m D+) \n19h : 12 km (450 m D+) \n+ course enfants \nCafé d’accueil\, ravitaillement champêtre à l’arrivée\, bière finisher. \nInscription et contact : https://club26allan.fr
URL:https://drome-ardeche.1000pattes.guide/event/allen-trail-allan-26/
LOCATION:All’en trail\, Allan\, France
CATEGORIES:Caritatif,Trail/course nature
END:VEVENT
END:VCALENDAR