BEGIN:VCALENDAR
VERSION:2.0
PRODID:-// - ECPv6.2.8.1//NONSGML v1.0//EN
CALSCALE:GREGORIAN
METHOD:PUBLISH
X-ORIGINAL-URL:https://drome-ardeche.1000pattes.guide
X-WR-CALDESC:évènements pour 
REFRESH-INTERVAL;VALUE=DURATION:PT1H
X-Robots-Tag:noindex
X-PUBLISHED-TTL:PT1H
BEGIN:VTIMEZONE
TZID:Europe/Paris
BEGIN:DAYLIGHT
TZOFFSETFROM:+0100
TZOFFSETTO:+0200
TZNAME:CEST
DTSTART:20250330T010000
END:DAYLIGHT
BEGIN:STANDARD
TZOFFSETFROM:+0200
TZOFFSETTO:+0100
TZNAME:CET
DTSTART:20251026T010000
END:STANDARD
END:VTIMEZONE
BEGIN:VEVENT
DTSTART;TZID=Europe/Paris:20250427T080000
DTEND;TZID=Europe/Paris:20250427T080000
DTSTAMP:20260425T124017
CREATED:20240209T203833Z
LAST-MODIFIED:20250205T160158Z
UID:10000034-1745740800-1745740800@drome-ardeche.1000pattes.guide
SUMMARY:Trail de Dieulefit (26)
DESCRIPTION:42 km en solo (2130 m D+) / 42 km en relais (1630 m D + 1er coureur/ 500 m D+ 2ème coureur) / 27 km (1480 m D+) / 17 km (760 m D+).  \nDouches\, pas de vestiaire gardé\, ostéopathe.  \nInscriptions uniquement sur trailpaysdedieulefitdrome.jimdofree.com \nContact : Chantal Ernouf – 06 70 51 84 36\, Noël Ernouf – 06 20 62 22 87 – passion.trail.dieulefit@gmail.com
URL:https://drome-ardeche.1000pattes.guide/event/trail-de-dieulefit-26/
LOCATION:Trail de dieulefit\, Dieulefit\, France
CATEGORIES:Trail/course nature
END:VEVENT
BEGIN:VEVENT
DTSTART;TZID=Europe/Paris:20250427T090000
DTEND;TZID=Europe/Paris:20250427T090000
DTSTAMP:20260425T124017
CREATED:20240209T204405Z
LAST-MODIFIED:20250205T160325Z
UID:10000035-1745744400-1745744400@drome-ardeche.1000pattes.guide
SUMMARY:La Foulée du bord du Rhône - Guilherand-Granges (07)
DESCRIPTION:21\,1 km / 8 km / course enfants \nInscription : https://www.le-sportif.com/ \nContact : Office municipal des sports – 04 75 44 00 82 et https://www.facebook.com/foulee.durhone/?locale=fr_FR
URL:https://drome-ardeche.1000pattes.guide/event/la-foulee-du-bord-du-rhone-guilherand-granges-07/
LOCATION:La foulée du bord du Rhône\, Guilherand-Granges\, France
CATEGORIES:Course sur route
END:VEVENT
BEGIN:VEVENT
DTSTART;TZID=Europe/Paris:20250427T120000
DTEND;TZID=Europe/Paris:20250427T120000
DTSTAMP:20260425T124017
CREATED:20240209T201606Z
LAST-MODIFIED:20250205T160358Z
UID:10000030-1745755200-1745755200@drome-ardeche.1000pattes.guide
SUMMARY:Les « Six jours de France- Gérard Cain » - Vallon-Pont-D’Arc (07)
DESCRIPTION:Boucle de 1\,1 km plate et goudronnée.\n6 jours ; 48 h ; 24 h ; 12 h ; 6 h.  \nCourses ouvertes à tous sur présentation de références\, catégories coureurs et marcheurs. Douches\, vestiaires\, possibilité de logement en bungalow. Au profit de l’association « Les amis de Kantchari » qui finance la construction d’écoles au Burkina Faso.  \nInscription : https://www.6jours-de-france-gerard-cain.fr/ \nContact : Gérard Segui – 06 88 14 82 65 – ultrarunning.organisation@gmail.com
URL:https://drome-ardeche.1000pattes.guide/event/les-six-jours-de-france-gerard-cain-vallon-pont-darc-07/
LOCATION:Les Six jours de France- Gérard Cain\, Vallon-Pont-D’Arc\, France
CATEGORIES:Caritatif,Course sur route,Marche
END:VEVENT
BEGIN:VEVENT
DTSTART;TZID=Europe/Paris:20250427T121500
DTEND;TZID=Europe/Paris:20250427T121500
DTSTAMP:20260425T124017
CREATED:20240211T164401Z
LAST-MODIFIED:20250205T153232Z
UID:10000073-1745756100-1745756100@drome-ardeche.1000pattes.guide
SUMMARY:Triathlon de Montélimar (26)
DESCRIPTION:Epreuve Contre la montre par équipes format S (ouvert paratriathlon) ; Epreuve Paratriathlon Individuelle format S ; Epreuve Relais format S (à 2 ou à 3). Nouveauté : course enfants (6-9 ans et 10-13 ans) \nRendez-vous à la piscine de Montélimar. \n+ d’infos sur les types de course : https://www.fftri.com/pratiquer/disciplines \nInscriptions : https://montelimar-triathlon.fr/triathlon-de-montelimar/infos-courses/ \n 
URL:https://drome-ardeche.1000pattes.guide/event/triathlon-de-montelimar-26/
CATEGORIES:Triathlon
END:VEVENT
END:VCALENDAR