BEGIN:VCALENDAR
VERSION:2.0
PRODID:-// - ECPv6.2.8.1//NONSGML v1.0//EN
CALSCALE:GREGORIAN
METHOD:PUBLISH
X-ORIGINAL-URL:https://drome-ardeche.1000pattes.guide
X-WR-CALDESC:évènements pour 
REFRESH-INTERVAL;VALUE=DURATION:PT1H
X-Robots-Tag:noindex
X-PUBLISHED-TTL:PT1H
BEGIN:VTIMEZONE
TZID:Europe/Paris
BEGIN:DAYLIGHT
TZOFFSETFROM:+0100
TZOFFSETTO:+0200
TZNAME:CEST
DTSTART:20250330T010000
END:DAYLIGHT
BEGIN:STANDARD
TZOFFSETFROM:+0200
TZOFFSETTO:+0100
TZNAME:CET
DTSTART:20251026T010000
END:STANDARD
END:VTIMEZONE
BEGIN:VEVENT
DTSTART;TZID=Europe/Paris:20250420T080000
DTEND;TZID=Europe/Paris:20250420T170000
DTSTAMP:20260425T122231
CREATED:20240209T202015Z
LAST-MODIFIED:20250205T160033Z
UID:10000031-1745136000-1745168400@drome-ardeche.1000pattes.guide
SUMMARY:Trail de Juliau - Saint-Jean-le-Centenier (07)
DESCRIPTION:46 km (1900 m D+) / 21 km (900 m D+) / 11 km (450 m D+).  \nDouche\, vestiaire\, pas de garde de sac.  \nInscriptions sur https://sites.google.com/view/trail-de-juliau-sport-nature-/ et sur place selon dossards disponibles.  \nContact : Corentin Gaillard – 06 72 42 34 03 – traildejuliau@gmail.com \n 
URL:https://drome-ardeche.1000pattes.guide/event/trail-de-juliau-saint-jean-le-centenier-07/
LOCATION:Trail de Juliau\, Saint-Jean-le-Centenier\, France
CATEGORIES:Trail/course nature
END:VEVENT
BEGIN:VEVENT
DTSTART;TZID=Europe/Paris:20250420T080000
DTEND;TZID=Europe/Paris:20250420T170000
DTSTAMP:20260425T122231
CREATED:20250205T155848Z
LAST-MODIFIED:20250205T155848Z
UID:10000120-1745136000-1745168400@drome-ardeche.1000pattes.guide
SUMMARY:Les 100 km de l’Ardèche - Saint-Péray (07)
DESCRIPTION:100 km solo ou relais + 50 km. Les 100 km de l’Ardèche partiront de la petite ville de Saint-Péray\, pour rejoindre Saint-Sauveur-de-Montagut. \nÉpreuve homologuée\, sur route et voies vertes. Profil roulant et rapide. A partir de 20 ans. \nwww.ultrardeche.fr/100-km-delardeche \nInfos : Laurent Brueyre – 06 86 17 90 05 / laurent.brueyre@orange.fr / Robin Brueyre – 06 80 47 71 89 / rbrueyre@gmail.com /
URL:https://drome-ardeche.1000pattes.guide/event/les-100-km-de-lardeche-saint-peray-07-2/
LOCATION:Les 100 km de l’Ardèche\, Saint-Péray\, France
CATEGORIES:Course sur route
END:VEVENT
END:VCALENDAR