BEGIN:VCALENDAR
VERSION:2.0
PRODID:-// - ECPv6.2.8.1//NONSGML v1.0//EN
CALSCALE:GREGORIAN
METHOD:PUBLISH
X-ORIGINAL-URL:https://drome-ardeche.1000pattes.guide
X-WR-CALDESC:évènements pour 
REFRESH-INTERVAL;VALUE=DURATION:PT1H
X-Robots-Tag:noindex
X-PUBLISHED-TTL:PT1H
BEGIN:VTIMEZONE
TZID:Europe/Paris
BEGIN:DAYLIGHT
TZOFFSETFROM:+0100
TZOFFSETTO:+0200
TZNAME:CEST
DTSTART:20250330T010000
END:DAYLIGHT
BEGIN:STANDARD
TZOFFSETFROM:+0200
TZOFFSETTO:+0100
TZNAME:CET
DTSTART:20251026T010000
END:STANDARD
END:VTIMEZONE
BEGIN:VEVENT
DTSTART;TZID=Europe/Paris:20250405T160000
DTEND;TZID=Europe/Paris:20250405T160000
DTSTAMP:20260425T122231
CREATED:20240209T135308Z
LAST-MODIFIED:20250205T155159Z
UID:10000024-1743868800-1743868800@drome-ardeche.1000pattes.guide
SUMMARY:Trail des Ayes - Toulaud (07)
DESCRIPTION:20 km (800 m D+) / 10 km (400 m D+) / courses enfants.  \nDouches\, vestiaires\, stand médical (prévus : kinés- ostéopathes- podologues).  \nInscriptions sur https://chronospheres.fr/evenements/detail/Trail-des-AYES-981?fbclid=IwAR0oocJrRVGwcV5YMXweB8lYTPZAmzzqiWpdZqQ5-XFo8PTRY7Qxuur43_4 \nContact : Benoît Cerantola\, 06 20 33 37 35\, toulaudtrail@gmail.com
URL:https://drome-ardeche.1000pattes.guide/event/https-chronospheres-fr-evenements-detail-trail-des-ayes-981fbclidiwar0oocjrrvgwcv5ymxweb8lytpzamzzqiwpdzqq5-xfo8ptry7qxuur43_4/
LOCATION:Trail des Ayes\, Toulaud\, France
CATEGORIES:Course pour enfants,Trail/course nature
END:VEVENT
END:VCALENDAR