BEGIN:VCALENDAR
VERSION:2.0
PRODID:-// - ECPv6.2.8.1//NONSGML v1.0//EN
CALSCALE:GREGORIAN
METHOD:PUBLISH
X-ORIGINAL-URL:https://drome-ardeche.1000pattes.guide
X-WR-CALDESC:évènements pour 
REFRESH-INTERVAL;VALUE=DURATION:PT1H
X-Robots-Tag:noindex
X-PUBLISHED-TTL:PT1H
BEGIN:VTIMEZONE
TZID:Europe/Paris
BEGIN:DAYLIGHT
TZOFFSETFROM:+0100
TZOFFSETTO:+0200
TZNAME:CEST
DTSTART:20250330T010000
END:DAYLIGHT
BEGIN:STANDARD
TZOFFSETFROM:+0200
TZOFFSETTO:+0100
TZNAME:CET
DTSTART:20251026T010000
END:STANDARD
END:VTIMEZONE
BEGIN:VEVENT
DTSTART;TZID=Europe/Paris:20250215T140000
DTEND;TZID=Europe/Paris:20250215T140000
DTSTAMP:20260425T153838
CREATED:20240209T091533Z
LAST-MODIFIED:20250205T154002Z
UID:10000009-1739628000-1739628000@drome-ardeche.1000pattes.guide
SUMMARY:Foulée du Saint-Joseph - Saint-Désirat (07)
DESCRIPTION:16 km (550 m D+) / 10 km (280 m D+) + course enfants\nCourse 10 km ouverte aux personnes à mobilité réduite. Départ et arrivée aux caves de Saint-Désirat. Une bouteille offerte à chaque inscrit. \nInscription sur le-sportif.com et sur place. \n+ d’infos : www.annonayjoggingclub.com/foulee-du-st-joseph \nContact : Jean-Yves Monnet – 06 67 06 82 15 – coursesajc07@gmail.com
URL:https://drome-ardeche.1000pattes.guide/event/foulee-du-saint-joseph-saint-desirat-07/
LOCATION:Foulée du Saint-Joseph\, Saint-Désirat\, France
CATEGORIES:Course pour enfants,Trail/course nature
END:VEVENT
END:VCALENDAR