BEGIN:VCALENDAR
VERSION:2.0
PRODID:-// - ECPv6.2.8.1//NONSGML v1.0//EN
CALSCALE:GREGORIAN
METHOD:PUBLISH
X-ORIGINAL-URL:https://drome-ardeche.1000pattes.guide
X-WR-CALDESC:évènements pour 
REFRESH-INTERVAL;VALUE=DURATION:PT1H
X-Robots-Tag:noindex
X-PUBLISHED-TTL:PT1H
BEGIN:VTIMEZONE
TZID:Europe/Paris
BEGIN:DAYLIGHT
TZOFFSETFROM:+0100
TZOFFSETTO:+0200
TZNAME:CEST
DTSTART:20240331T010000
END:DAYLIGHT
BEGIN:STANDARD
TZOFFSETFROM:+0200
TZOFFSETTO:+0100
TZNAME:CET
DTSTART:20241027T010000
END:STANDARD
END:VTIMEZONE
BEGIN:VEVENT
DTSTART;TZID=Europe/Paris:20241214T150000
DTEND;TZID=Europe/Paris:20241214T150000
DTSTAMP:20260425T184532
CREATED:20240224T164406Z
LAST-MODIFIED:20240224T164406Z
UID:10000109-1734188400-1734188400@drome-ardeche.1000pattes.guide
SUMMARY:La Pracomtrail - Montségur-sur-Lauzon (26)
DESCRIPTION:10 km (200 m D+) avec un tracé mixte ruelles et sentiers.\nOrganisée au bénéfice du Téléthon. Vin chaud et pain d’épices à l’arrivée. Sacs gardés. \nInscription sur www.lafouleedelatruffe.fr et sur place. \nContact : André Charpentier – 04 75 98 18 54 – 06 99 97 09 56 – accharpentier26@gmail.com
URL:https://drome-ardeche.1000pattes.guide/event/la-pracomtrail-montsegur-sur-lauzon-26/
LOCATION:La Pracomtrail\, Montségur-sur-Lauzon\, France
CATEGORIES:Course sur route
END:VEVENT
BEGIN:VEVENT
DTSTART;TZID=Europe/Paris:20241214T200000
DTEND;TZID=Europe/Paris:20241214T200000
DTSTAMP:20260425T184532
CREATED:20240224T164645Z
LAST-MODIFIED:20240224T164645Z
UID:10000110-1734206400-1734206400@drome-ardeche.1000pattes.guide
SUMMARY:Trail nocturne de Noël de Valence (26)
DESCRIPTION:8 km à la frontale\, avec un parcours dans les rues et les parcs de la ville (80m D+).\nChallenge déguisement\, challenge entreprise\, challenge association. \nInscription sur www.valence-triathlon.com et sur place selon dossards dispo. \nContact : Joseph Kerdo – 07 81 02 38 68
URL:https://drome-ardeche.1000pattes.guide/event/trail-nocturne-de-noel-de-valence-26/
LOCATION:Trail nocturne de Noël de Valence\, Valence\, France
CATEGORIES:Trail/course nature
END:VEVENT
END:VCALENDAR