BEGIN:VCALENDAR
VERSION:2.0
PRODID:-// - ECPv6.2.8.1//NONSGML v1.0//EN
CALSCALE:GREGORIAN
METHOD:PUBLISH
X-ORIGINAL-URL:https://drome-ardeche.1000pattes.guide
X-WR-CALDESC:évènements pour 
REFRESH-INTERVAL;VALUE=DURATION:PT1H
X-Robots-Tag:noindex
X-PUBLISHED-TTL:PT1H
BEGIN:VTIMEZONE
TZID:Europe/Paris
BEGIN:DAYLIGHT
TZOFFSETFROM:+0100
TZOFFSETTO:+0200
TZNAME:CEST
DTSTART:20240331T010000
END:DAYLIGHT
BEGIN:STANDARD
TZOFFSETFROM:+0200
TZOFFSETTO:+0100
TZNAME:CET
DTSTART:20241027T010000
END:STANDARD
END:VTIMEZONE
BEGIN:VEVENT
DTSTART;TZID=Europe/Paris:20241122T200000
DTEND;TZID=Europe/Paris:20241122T200000
DTSTAMP:20260425T201305
CREATED:20240224T161144Z
LAST-MODIFIED:20240224T161158Z
UID:10000103-1732305600-1732305600@drome-ardeche.1000pattes.guide
SUMMARY:Trail urbain de Loriol-sur-Drôme (26)
DESCRIPTION:10 km\nFrontale obligatoire\, tracé au cœur de la ville et ses environs. \nInfos : http://www.loriol.com/cadre-vie/sport/trail-urbain \nInscriptions sur chronospheres.fr
URL:https://drome-ardeche.1000pattes.guide/event/trail-urbain-de-loriol-sur-drome-loriol-sur-drome-26/
LOCATION:Trail urbain de Loriol-sur-Drôme\, Loriol-sur-Drôme\, France
CATEGORIES:Urban trail
END:VEVENT
END:VCALENDAR