BEGIN:VCALENDAR
VERSION:2.0
PRODID:-// - ECPv6.2.8.1//NONSGML v1.0//EN
CALSCALE:GREGORIAN
METHOD:PUBLISH
X-ORIGINAL-URL:https://drome-ardeche.1000pattes.guide
X-WR-CALDESC:évènements pour 
REFRESH-INTERVAL;VALUE=DURATION:PT1H
X-Robots-Tag:noindex
X-PUBLISHED-TTL:PT1H
BEGIN:VTIMEZONE
TZID:Europe/Paris
BEGIN:DAYLIGHT
TZOFFSETFROM:+0100
TZOFFSETTO:+0200
TZNAME:CEST
DTSTART:20240331T010000
END:DAYLIGHT
BEGIN:STANDARD
TZOFFSETFROM:+0200
TZOFFSETTO:+0100
TZNAME:CET
DTSTART:20241027T010000
END:STANDARD
END:VTIMEZONE
BEGIN:VEVENT
DTSTART;TZID=Europe/Paris:20241117T080000
DTEND;TZID=Europe/Paris:20241117T080000
DTSTAMP:20260425T201307
CREATED:20240224T160913Z
LAST-MODIFIED:20240224T160913Z
UID:10000102-1731830400-1731830400@drome-ardeche.1000pattes.guide
SUMMARY:Trail des Truffières - Saint-Paul-trois-Châteaux (26)
DESCRIPTION:48 km (1600 m D+) / 28 km (850 m D+\, assez roulant) / 20 km (650 m D+)\, pour un parcours plus cassant) / 13 km (450 m D course et randonnée).\nDouches\, sacs gardés\, ostéopathes. \nProgramme et Inscription sur www.courirlibreentricastin.net fortement recommandée. \nContact : Denis Duriaud – 04 75 04 74 35 – 06 71 47 63 73 – clet26@ orange.fr
URL:https://drome-ardeche.1000pattes.guide/event/trail-des-truffieres-saint-paul-trois-chateaux-26/
LOCATION:Trail des Truffières\, Saint-Paul-trois-Châteaux\, France
CATEGORIES:Marche,Trail/course nature
END:VEVENT
BEGIN:VEVENT
DTSTART;TZID=Europe/Paris:20241117T094500
DTEND;TZID=Europe/Paris:20241117T094500
DTSTAMP:20260425T201307
CREATED:20240224T160502Z
LAST-MODIFIED:20240224T160502Z
UID:10000101-1731836700-1731836700@drome-ardeche.1000pattes.guide
SUMMARY:Challenge Alain Hartz - Portes-les-Valence (26)
DESCRIPTION:9 h 45 : 10 km (132 m D+) \n10 h : 5 km (66 m D+) \n10 h 05 : 3\,7 km (quasi plat) / courses enfants 400m – 800m – 1200 m – 2400 m. \nBénéfices reversés au Téléthon. Vestiaires gardés. \nInscription sur le-sportif. com\, par courrier et la veille sur place. \nContact : Yolande Saint-Clair – 06 89 68 62 97 – saint-clair.jean-louis@orange.fr
URL:https://drome-ardeche.1000pattes.guide/event/challenge-alain-hartz-portes-les-valence-26/
LOCATION:Challenge Alain Hartz\, Portes-les-Valence\, France
CATEGORIES:Caritatif,Course sur route,Trail/course nature
END:VEVENT
END:VCALENDAR