BEGIN:VCALENDAR
VERSION:2.0
PRODID:-// - ECPv6.2.8.1//NONSGML v1.0//EN
CALSCALE:GREGORIAN
METHOD:PUBLISH
X-ORIGINAL-URL:https://drome-ardeche.1000pattes.guide
X-WR-CALDESC:évènements pour 
REFRESH-INTERVAL;VALUE=DURATION:PT1H
X-Robots-Tag:noindex
X-PUBLISHED-TTL:PT1H
BEGIN:VTIMEZONE
TZID:Europe/Paris
BEGIN:DAYLIGHT
TZOFFSETFROM:+0100
TZOFFSETTO:+0200
TZNAME:CEST
DTSTART:20240331T010000
END:DAYLIGHT
BEGIN:STANDARD
TZOFFSETFROM:+0200
TZOFFSETTO:+0100
TZNAME:CET
DTSTART:20241027T010000
END:STANDARD
END:VTIMEZONE
BEGIN:VEVENT
DTSTART;TZID=Europe/Paris:20241111T140000
DTEND;TZID=Europe/Paris:20241111T140000
DTSTAMP:20260425T201305
CREATED:20240224T155058Z
LAST-MODIFIED:20240224T155123Z
UID:10000097-1731333600-1731333600@drome-ardeche.1000pattes.guide
SUMMARY:Trail Barcel’O - Barcelonne (26)
DESCRIPTION:8\,25 km / 16\,3 km \nInscription : https://valence-sports-orientation.fr/oplato/ \nContact : Antoine Taupin – antoine.taupin61@icloud.com
URL:https://drome-ardeche.1000pattes.guide/event/trail-barcelo-barcelonne-26/
LOCATION:Trail Barcel’O\, Barcelonne\, France
CATEGORIES:Trail/course nature
END:VEVENT
END:VCALENDAR