BEGIN:VCALENDAR
VERSION:2.0
PRODID:-// - ECPv6.2.8.1//NONSGML v1.0//EN
CALSCALE:GREGORIAN
METHOD:PUBLISH
X-ORIGINAL-URL:https://drome-ardeche.1000pattes.guide
X-WR-CALDESC:évènements pour 
REFRESH-INTERVAL;VALUE=DURATION:PT1H
X-Robots-Tag:noindex
X-PUBLISHED-TTL:PT1H
BEGIN:VTIMEZONE
TZID:Europe/Paris
BEGIN:DAYLIGHT
TZOFFSETFROM:+0100
TZOFFSETTO:+0200
TZNAME:CEST
DTSTART:20240331T010000
END:DAYLIGHT
BEGIN:STANDARD
TZOFFSETFROM:+0200
TZOFFSETTO:+0100
TZNAME:CET
DTSTART:20241027T010000
END:STANDARD
END:VTIMEZONE
BEGIN:VEVENT
DTSTART;TZID=Europe/Paris:20240922T091500
DTEND;TZID=Europe/Paris:20240922T091500
DTSTAMP:20260425T232130
CREATED:20240224T165303Z
LAST-MODIFIED:20240224T165413Z
UID:10000112-1726996500-1726996500@drome-ardeche.1000pattes.guide
SUMMARY:Triathlon du Domaine du Lac de Champos - Saint-Donat-sur-l’Herbasse (26)
DESCRIPTION:A partir de la catégorie mini-poussins jusqu’au format M avec des relais possibles sur les distances XS et M. Aussi au programme : un triatlon S \n+ d’infos sur les types de course : https://www.fftri.com/pratiquer/disciplines \nInscription et contact : https://triathlon-lac-champos.com/
URL:https://drome-ardeche.1000pattes.guide/event/triathlon-du-domaine-du-lac-de-champos-saint-donat-sur-lherbasse-26/
CATEGORIES:Triathlon
END:VEVENT
END:VCALENDAR