BEGIN:VCALENDAR
VERSION:2.0
PRODID:-// - ECPv6.2.8.1//NONSGML v1.0//EN
CALSCALE:GREGORIAN
METHOD:PUBLISH
X-ORIGINAL-URL:https://drome-ardeche.1000pattes.guide
X-WR-CALDESC:évènements pour 
REFRESH-INTERVAL;VALUE=DURATION:PT1H
X-Robots-Tag:noindex
X-PUBLISHED-TTL:PT1H
BEGIN:VTIMEZONE
TZID:Europe/Paris
BEGIN:DAYLIGHT
TZOFFSETFROM:+0100
TZOFFSETTO:+0200
TZNAME:CEST
DTSTART:20240331T010000
END:DAYLIGHT
BEGIN:STANDARD
TZOFFSETFROM:+0200
TZOFFSETTO:+0100
TZNAME:CET
DTSTART:20241027T010000
END:STANDARD
END:VTIMEZONE
BEGIN:VEVENT
DTSTART;TZID=Europe/Paris:20240823T180000
DTEND;TZID=Europe/Paris:20240823T180000
DTSTAMP:20260426T004120
CREATED:20240424T080254Z
LAST-MODIFIED:20240424T080254Z
UID:10000118-1724436000-1724436000@drome-ardeche.1000pattes.guide
SUMMARY:Vercorsman - Saint-Nazaire-en-Royans (26)
DESCRIPTION:Vendredi 23 août\, 18 h : EDF Vercorsman S (750/24/ 5\,5) ; Duathon du Vercors (2/24/5\,5) \nSamedi 24 août : EDF Vercorsman XL (2\,2/120/22)\, Mini-Vercorskids (100/2000/600)\, Vercorskids (200/3800/1250) \nDimanche 25 août : EDF Vercorsman M (1\,4/57/11) \nInfos et inscriptions : http://vercorsman.com/ \nContact : 06 09 10 67 63\, events@cap-triathlon.com
URL:https://drome-ardeche.1000pattes.guide/event/vercorsman-saint-nazaire-en-royans-26/
LOCATION:Vercorsman\, Saint-Nazaire-en-Royans\, France
CATEGORIES:Triathlon
END:VEVENT
END:VCALENDAR