BEGIN:VCALENDAR
VERSION:2.0
PRODID:-// - ECPv6.2.8.1//NONSGML v1.0//EN
CALSCALE:GREGORIAN
METHOD:PUBLISH
X-ORIGINAL-URL:https://drome-ardeche.1000pattes.guide
X-WR-CALDESC:évènements pour 
REFRESH-INTERVAL;VALUE=DURATION:PT1H
X-Robots-Tag:noindex
X-PUBLISHED-TTL:PT1H
BEGIN:VTIMEZONE
TZID:Europe/Paris
BEGIN:DAYLIGHT
TZOFFSETFROM:+0100
TZOFFSETTO:+0200
TZNAME:CEST
DTSTART:20240331T010000
END:DAYLIGHT
BEGIN:STANDARD
TZOFFSETFROM:+0200
TZOFFSETTO:+0100
TZNAME:CET
DTSTART:20241027T010000
END:STANDARD
END:VTIMEZONE
BEGIN:VEVENT
DTSTART;TZID=Europe/Paris:20240815T151500
DTEND;TZID=Europe/Paris:20240815T151500
DTSTAMP:20260426T004116
CREATED:20240424T074600Z
LAST-MODIFIED:20240424T074600Z
UID:10000117-1723734900-1723734900@drome-ardeche.1000pattes.guide
SUMMARY:Triathlon de Lamastre (07)
DESCRIPTION:– 750 m de natation au Lac des Collanges (Les Nonières)\n– 22 km à vélo pour rejoindre Lamastre\n– 6 km de course à pied au bord de la Sumène (Lamastre) \nOrganisation : Service des Sports de Lamastre \nInformations : sports@lamastre.fr ou 06 78 99 84 24 \nInscriptions : https://www.sportsnconnect.com/calendrier-evenements/view/27841/triathlon-de-lamastre-2024
URL:https://drome-ardeche.1000pattes.guide/event/triathlon-de-lamastre-07/
LOCATION:Triathlon de Lamastre\, Lamastre\, France
CATEGORIES:Triathlon
END:VEVENT
END:VCALENDAR