BEGIN:VCALENDAR
VERSION:2.0
PRODID:-// - ECPv6.2.8.1//NONSGML v1.0//EN
CALSCALE:GREGORIAN
METHOD:PUBLISH
X-ORIGINAL-URL:https://drome-ardeche.1000pattes.guide
X-WR-CALDESC:évènements pour 
REFRESH-INTERVAL;VALUE=DURATION:PT1H
X-Robots-Tag:noindex
X-PUBLISHED-TTL:PT1H
BEGIN:VTIMEZONE
TZID:Europe/Paris
BEGIN:DAYLIGHT
TZOFFSETFROM:+0100
TZOFFSETTO:+0200
TZNAME:CEST
DTSTART:20240331T010000
END:DAYLIGHT
BEGIN:STANDARD
TZOFFSETFROM:+0200
TZOFFSETTO:+0100
TZNAME:CET
DTSTART:20241027T010000
END:STANDARD
END:VTIMEZONE
BEGIN:VEVENT
DTSTART;TZID=Europe/Paris:20240630T060000
DTEND;TZID=Europe/Paris:20240630T060000
DTSTAMP:20260426T033743
CREATED:20240211T151556Z
LAST-MODIFIED:20240211T151556Z
UID:10000067-1719727200-1719727200@drome-ardeche.1000pattes.guide
SUMMARY:Triathlon du Lac d'Issarles (07)
DESCRIPTION:Triathlons S et M\, indiv ou relais \n+ d’infos sur les types de course : https://www.fftri.com/pratiquer/disciplines \nInscription : https://www.sportsnconnect.com/calendrier-evenements/view/25694/triathlon-du-lac-d-issarles#reglement \nContact : triathlon.lac.issarles@gmail.com\, 06 72 00 28 89
URL:https://drome-ardeche.1000pattes.guide/event/triathlon-du-lac-dissarles-07/
CATEGORIES:Triathlon
END:VEVENT
END:VCALENDAR