BEGIN:VCALENDAR
VERSION:2.0
PRODID:-// - ECPv6.2.8.1//NONSGML v1.0//EN
CALSCALE:GREGORIAN
METHOD:PUBLISH
X-ORIGINAL-URL:https://drome-ardeche.1000pattes.guide
X-WR-CALDESC:évènements pour 
REFRESH-INTERVAL;VALUE=DURATION:PT1H
X-Robots-Tag:noindex
X-PUBLISHED-TTL:PT1H
BEGIN:VTIMEZONE
TZID:Europe/Paris
BEGIN:DAYLIGHT
TZOFFSETFROM:+0100
TZOFFSETTO:+0200
TZNAME:CEST
DTSTART:20240331T010000
END:DAYLIGHT
BEGIN:STANDARD
TZOFFSETFROM:+0200
TZOFFSETTO:+0100
TZNAME:CET
DTSTART:20241027T010000
END:STANDARD
END:VTIMEZONE
BEGIN:VEVENT
DTSTART;TZID=Europe/Paris:20240621T190000
DTEND;TZID=Europe/Paris:20240621T190000
DTSTAMP:20260426T033743
CREATED:20240210T072501Z
LAST-MODIFIED:20240210T072501Z
UID:10000052-1718996400-1718996400@drome-ardeche.1000pattes.guide
SUMMARY:Ultratrail Côte d’Azur Mercantour - Saint-Martin-Vésubie (06) / Monaco
DESCRIPTION:Au menu de l’UTCAM 2024 : Vertical 5 km / 10 km / 30 km / 50 km / 75 km / 125 km\n21 juin\, 19 h : La Mare-Montana 5 km : 4\,5 km\, 490 m D+\, au départ de Monaco.  \n21 juin\, 19 h : Le 125km : 119\,5 km\, 7800 m D+\, au départ de Monaco\, en solo ou en relais.\n22 juin\, 7 h : La Skyultra 75km : 74\,4 km\, 5100 m D+\, Saint Martin Vésubie.  \n22 juin\, 9 h : La Skymarathon 50 km : 52\,3 km\, 4200 m D+\, Saint-Martin-Vésubie.  \n23 juin\, 9 h : Le Skyrace® Mercantour 30 km : 29\,2 km\, 2100 m D+\, Saint-Martin-Vésubie.\n23 juin\, 9 h 30 : La Vésubienne 10 km : 9\,6 km\, 550 m D+\, Saint-Martin-Vésubie.  \nInscriptions sur www.utcam06.com \n 
URL:https://drome-ardeche.1000pattes.guide/event/ultratrail-cote-dazur-mercantour-saint-martin-vesubie-06-monaco/
CATEGORIES:Trail/course nature
ATTACH;FMTTYPE=image/jpeg:https://drome-ardeche.1000pattes.guide/wp-content/uploads/sites/6/2024/02/360106321_654920533331933_6651594645309852785_n.jpg
END:VEVENT
END:VCALENDAR