BEGIN:VCALENDAR
VERSION:2.0
PRODID:-// - ECPv6.2.8.1//NONSGML v1.0//EN
CALSCALE:GREGORIAN
METHOD:PUBLISH
X-ORIGINAL-URL:https://drome-ardeche.1000pattes.guide
X-WR-CALDESC:évènements pour 
REFRESH-INTERVAL;VALUE=DURATION:PT1H
X-Robots-Tag:noindex
X-PUBLISHED-TTL:PT1H
BEGIN:VTIMEZONE
TZID:Europe/Paris
BEGIN:DAYLIGHT
TZOFFSETFROM:+0100
TZOFFSETTO:+0200
TZNAME:CEST
DTSTART:20240331T010000
END:DAYLIGHT
BEGIN:STANDARD
TZOFFSETFROM:+0200
TZOFFSETTO:+0100
TZNAME:CET
DTSTART:20241027T010000
END:STANDARD
END:VTIMEZONE
BEGIN:VEVENT
DTSTART;TZID=Europe/Paris:20240517T220000
DTEND;TZID=Europe/Paris:20240517T220000
DTSTAMP:20260426T050154
CREATED:20240209T214028Z
LAST-MODIFIED:20240209T214028Z
UID:10000042-1715983200-1715983200@drome-ardeche.1000pattes.guide
SUMMARY:Trail des pyramides noires - Oignies (62)
DESCRIPTION:17 mai. 22h à Auchel : 124 km (28 terrils\, 1960 m D+).\n\n18 mai\, 00h à Olhain : 84 km (19 terrils\, 1140 m D+).\n\n18 mai\, 7h à Grenay : 62 km (13 terrils\, 890 m D+).\n\n18 mai\, 8h à Liévin : 46 km (9 terrils\, 540 m D+)\n\n18 mai\, 11h à Oignies : 22 km (4 terrils\, 270 m D+) et marche nordique de 22h\n\nNavettes. Restauration\, buvette\, kiné. Animations musicales. \n\n\n\n\n\nInscription sur https://www.traildespyramidesnoires.com\n\n\n\n\n\nContact : tpn@missionbassinminier.org\, Adeline\, 03 21 08 72 72\,\n\n 
URL:https://drome-ardeche.1000pattes.guide/event/trail-des-pyramides-noires-oignies-62/
LOCATION:Trail des pyramides noires\, Oignies\, France
CATEGORIES:Trail/course nature
ATTACH;FMTTYPE=image/jpeg:https://drome-ardeche.1000pattes.guide/wp-content/uploads/sites/6/2024/02/62314696_2730043867068123_356673544756658176_n.jpeg
END:VEVENT
END:VCALENDAR