BEGIN:VCALENDAR
VERSION:2.0
PRODID:-// - ECPv6.2.8.1//NONSGML v1.0//EN
CALSCALE:GREGORIAN
METHOD:PUBLISH
X-ORIGINAL-URL:https://drome-ardeche.1000pattes.guide
X-WR-CALDESC:évènements pour 
REFRESH-INTERVAL;VALUE=DURATION:PT1H
X-Robots-Tag:noindex
X-PUBLISHED-TTL:PT1H
BEGIN:VTIMEZONE
TZID:Europe/Paris
BEGIN:DAYLIGHT
TZOFFSETFROM:+0100
TZOFFSETTO:+0200
TZNAME:CEST
DTSTART:20240331T010000
END:DAYLIGHT
BEGIN:STANDARD
TZOFFSETFROM:+0200
TZOFFSETTO:+0100
TZNAME:CET
DTSTART:20241027T010000
END:STANDARD
END:VTIMEZONE
BEGIN:VEVENT
DTSTART;TZID=Europe/Paris:20240516T093000
DTEND;TZID=Europe/Paris:20240516T093000
DTSTAMP:20260426T050258
CREATED:20240209T211048Z
LAST-MODIFIED:20250326T145446Z
UID:10000038-1715851800-1715851800@drome-ardeche.1000pattes.guide
SUMMARY:La Rocherude - Rochegude (26)
DESCRIPTION:12 km (300 m D+) / 10 km marche et courses enfants (500 m et 1000 m).  \nDouches\, vestiaires\, sacs gardés.  \nInscription sur www.rocherude.fr et sur place selon dossards disponibles. \nContact : Jonathan Giacomoni – 06 34 16 29 95 – lafouleerochegudienne26@gmail.com – Manon Blondet – 06 38 36 72 17
URL:https://drome-ardeche.1000pattes.guide/event/la-rocherude-rochegude-26/
LOCATION:La Rochegude – Rochegude (26)\, Rochegude\, France
CATEGORIES:Course pour enfants,Marche,Trail/course nature
END:VEVENT
END:VCALENDAR